BEGIN:VCALENDAR
VERSION:2.0
PRODID:-//Fundacja Wspólnie do Demokracji - ECPv6.15.17.1//NONSGML v1.0//EN
CALSCALE:GREGORIAN
METHOD:PUBLISH
X-WR-CALNAME:Fundacja Wspólnie do Demokracji
X-ORIGINAL-URL:https://fundacjawspolniedodemokracji.pl
X-WR-CALDESC:Wydarzenia dla Fundacja Wspólnie do Demokracji
REFRESH-INTERVAL;VALUE=DURATION:PT1H
X-Robots-Tag:noindex
X-PUBLISHED-TTL:PT1H
BEGIN:VTIMEZONE
TZID:Europe/Paris
BEGIN:DAYLIGHT
TZOFFSETFROM:+0100
TZOFFSETTO:+0200
TZNAME:CEST
DTSTART:20220327T010000
END:DAYLIGHT
BEGIN:STANDARD
TZOFFSETFROM:+0200
TZOFFSETTO:+0100
TZNAME:CET
DTSTART:20221030T010000
END:STANDARD
BEGIN:DAYLIGHT
TZOFFSETFROM:+0100
TZOFFSETTO:+0200
TZNAME:CEST
DTSTART:20230326T010000
END:DAYLIGHT
BEGIN:STANDARD
TZOFFSETFROM:+0200
TZOFFSETTO:+0100
TZNAME:CET
DTSTART:20231029T010000
END:STANDARD
BEGIN:DAYLIGHT
TZOFFSETFROM:+0100
TZOFFSETTO:+0200
TZNAME:CEST
DTSTART:20240331T010000
END:DAYLIGHT
BEGIN:STANDARD
TZOFFSETFROM:+0200
TZOFFSETTO:+0100
TZNAME:CET
DTSTART:20241027T010000
END:STANDARD
END:VTIMEZONE
BEGIN:VEVENT
DTSTART;TZID=Europe/Paris:20230212T120000
DTEND;TZID=Europe/Paris:20230212T150000
DTSTAMP:20260420T021027
CREATED:20230211T065557Z
LAST-MODIFIED:20230211T065557Z
UID:998-1676203200-1676214000@fundacjawspolniedodemokracji.pl
SUMMARY:Zbieramy Dary na III WYJAZD HUMANITARNY NA Ukrainę
DESCRIPTION:Zbieramy Dary na III WYJAZD HUMANITARNY NA Ukrainę\nLwów- Równe- Bucza – Kijów- Zinkov\nWYJAZD z Wejherowa 23 – 28luty \n 
URL:https://fundacjawspolniedodemokracji.pl/wydarzenie/zbieramy-dary-na-iii-wyjazd-humanitarny-na-ukraine/
LOCATION:Wejherowo\, Plac Wejhera\, Plac Wejhera\, Wejherowo\, Pomorskie\, 84-200\, Poland
CATEGORIES:Pomoc dla Ukrainy
ATTACH;FMTTYPE=image/jpeg:https://fundacjawspolniedodemokracji.pl/wp-content/uploads/2023/02/Zbiorka-darow-Wejherowo-12-lutego-Plac-Wejhera-12-15.jpg
END:VEVENT
BEGIN:VEVENT
DTSTART;TZID=Europe/Paris:20230114T170000
DTEND;TZID=Europe/Paris:20230114T193000
DTSTAMP:20260420T021027
CREATED:20221226T143529Z
LAST-MODIFIED:20221226T151510Z
UID:562-1673715600-1673724600@fundacjawspolniedodemokracji.pl
SUMMARY:XXV Wejherowskie Rozmowy na Czasie w Poznaniu
DESCRIPTION:Gość Panelu\nRedaktor Naczelny Adam Michnik
URL:https://fundacjawspolniedodemokracji.pl/wydarzenie/xxv-wejherowskie-rozmowy-na-czasie-w-poznaniu/
LOCATION:Programy Społeczne – Centrum Kultury ZAMEK w Poznaniu\, Św. Marcin 80/82\, Poznań\, Wielkopolskie\, 61-809\, Poland
CATEGORIES:Wejherowskie Rozmowy na Czasie
ATTACH;FMTTYPE=image/jpeg:https://fundacjawspolniedodemokracji.pl/wp-content/uploads/2022/12/XXV-Wejherowskie-Rozmowy-na-czasie-w-Poznaniu-Adam-Michnik-Poznan.jpg
ORGANIZER;CN="Fundacja Wsp%C3%B3lnie do Demokracji":MAILTO:biuro@fundacjawspolniedodemokracji.pl
END:VEVENT
END:VCALENDAR